BEGIN:VCALENDAR
VERSION:2.0
PRODID:-//Yoga della mente - ECPv6.10.1//NONSGML v1.0//EN
CALSCALE:GREGORIAN
METHOD:PUBLISH
X-WR-CALNAME:Yoga della mente
X-ORIGINAL-URL:https://www.yogadellamente.com
X-WR-CALDESC:Events for Yoga della mente
REFRESH-INTERVAL;VALUE=DURATION:PT1H
X-Robots-Tag:noindex
X-PUBLISHED-TTL:PT1H
BEGIN:VTIMEZONE
TZID:Europe/Rome
BEGIN:DAYLIGHT
TZOFFSETFROM:+0100
TZOFFSETTO:+0200
TZNAME:CEST
DTSTART:20260329T010000
END:DAYLIGHT
BEGIN:STANDARD
TZOFFSETFROM:+0200
TZOFFSETTO:+0100
TZNAME:CET
DTSTART:20261025T010000
END:STANDARD
END:VTIMEZONE
BEGIN:VEVENT
DTSTART;TZID=Europe/Rome:20260425T080000
DTEND;TZID=Europe/Rome:20260425T170000
DTSTAMP:20260423T121610
CREATED:20260226T171507Z
LAST-MODIFIED:20260226T173108Z
UID:2125-1777104000-1777136400@www.yogadellamente.com
SUMMARY:Dalla confusione alla chiarezza: educare la mente
DESCRIPTION:Dalla confusione alla chiarezza: educare la mente\nProgramma di educazione del pensiero e igiene emotiva \n4 mesi + weekend residenziale incluso \nBasato sul libro di Sua Santità il Dalai Lama \n“Conosci te stesso” \nPer Info dettagliate sul corso\nCLICCA QUI
URL:https://www.yogadellamente.com/event/dalla-confusione-alla-chiarezza-educare-la-mente/
LOCATION:zoom\, Italy
ORGANIZER;CN="Yoga della Mente":MAILTO:info@yogadellamente.com
END:VEVENT
END:VCALENDAR